BEGIN:VCALENDAR
VERSION:2.0
PRODID:-//Norrbottens Ornitologiska Förening - ECPv6.15.17.1//NONSGML v1.0//EN
CALSCALE:GREGORIAN
METHOD:PUBLISH
X-WR-CALNAME:Norrbottens Ornitologiska Förening
X-ORIGINAL-URL:https://nof.nu
X-WR-CALDESC:Händelser för Norrbottens Ornitologiska Förening
REFRESH-INTERVAL;VALUE=DURATION:PT1H
X-Robots-Tag:noindex
X-PUBLISHED-TTL:PT1H
BEGIN:VTIMEZONE
TZID:Europe/Stockholm
BEGIN:DAYLIGHT
TZOFFSETFROM:+0100
TZOFFSETTO:+0200
TZNAME:CEST
DTSTART:20250330T010000
END:DAYLIGHT
BEGIN:STANDARD
TZOFFSETFROM:+0200
TZOFFSETTO:+0100
TZNAME:CET
DTSTART:20251026T010000
END:STANDARD
BEGIN:DAYLIGHT
TZOFFSETFROM:+0100
TZOFFSETTO:+0200
TZNAME:CEST
DTSTART:20260329T010000
END:DAYLIGHT
BEGIN:STANDARD
TZOFFSETFROM:+0200
TZOFFSETTO:+0100
TZNAME:CET
DTSTART:20261025T010000
END:STANDARD
BEGIN:DAYLIGHT
TZOFFSETFROM:+0100
TZOFFSETTO:+0200
TZNAME:CEST
DTSTART:20270328T010000
END:DAYLIGHT
BEGIN:STANDARD
TZOFFSETFROM:+0200
TZOFFSETTO:+0100
TZNAME:CET
DTSTART:20271031T010000
END:STANDARD
END:VTIMEZONE
BEGIN:VEVENT
DTSTART;TZID=Europe/Stockholm:20260615T200000
DTEND;TZID=Europe/Stockholm:20260616T010000
DTSTAMP:20260425T154902
CREATED:20260208T115638Z
LAST-MODIFIED:20260208T115638Z
UID:6447-1781553600-1781571600@nof.nu
SUMMARY:Nattsångarkoll i Piteåtrakten ll. Måndag 15 juni.
DESCRIPTION:Ikväll åker vi ut för att lyssna efter nattsångare i Piteåtrakten. Med lite tur hittar vi någon vaktel\, kornknarr\, sumphöna eller sångare under kvällen. \nTid och plats: Samling vid Mio möbler i Öjebyn för gemensam avfärd kl 20.00. Åter senast kl 01.00. Reservdag 18 juni på samma tid och plats. \nObligatorisk anmälan till: lars.sandberg@framnas.nu. Ange namn och telefonnummer ifall Lars behöver komma i kontakt med dig. \nKontaktperson: Lars Sandberg 070 329 92 53
URL:https://nof.nu/evenemang/nattsangarkoll-i-piteatrakten-ll-mandag-15-juni/
END:VEVENT
END:VCALENDAR