BEGIN:VCALENDAR
VERSION:2.0
PRODID:-//Norrbottens Ornitologiska Förening - ECPv6.15.17.1//NONSGML v1.0//EN
CALSCALE:GREGORIAN
METHOD:PUBLISH
X-ORIGINAL-URL:https://nof.nu
X-WR-CALDESC:Händelser för Norrbottens Ornitologiska Förening
REFRESH-INTERVAL;VALUE=DURATION:PT1H
X-Robots-Tag:noindex
X-PUBLISHED-TTL:PT1H
BEGIN:VTIMEZONE
TZID:Europe/Stockholm
BEGIN:DAYLIGHT
TZOFFSETFROM:+0100
TZOFFSETTO:+0200
TZNAME:CEST
DTSTART:20250330T010000
END:DAYLIGHT
BEGIN:STANDARD
TZOFFSETFROM:+0200
TZOFFSETTO:+0100
TZNAME:CET
DTSTART:20251026T010000
END:STANDARD
BEGIN:DAYLIGHT
TZOFFSETFROM:+0100
TZOFFSETTO:+0200
TZNAME:CEST
DTSTART:20260329T010000
END:DAYLIGHT
BEGIN:STANDARD
TZOFFSETFROM:+0200
TZOFFSETTO:+0100
TZNAME:CET
DTSTART:20261025T010000
END:STANDARD
BEGIN:DAYLIGHT
TZOFFSETFROM:+0100
TZOFFSETTO:+0200
TZNAME:CEST
DTSTART:20270328T010000
END:DAYLIGHT
BEGIN:STANDARD
TZOFFSETFROM:+0200
TZOFFSETTO:+0100
TZNAME:CET
DTSTART:20271031T010000
END:STANDARD
END:VTIMEZONE
BEGIN:VEVENT
DTSTART;TZID=Europe/Stockholm:20260503T070000
DTEND;TZID=Europe/Stockholm:20260503T100000
DTSTAMP:20260425T143626
CREATED:20260208T104849Z
LAST-MODIFIED:20260208T104849Z
UID:6425-1777791600-1777802400@nof.nu
SUMMARY:Fågelmorgon vid Svartskatatornet\, Luleå l. Söndag 3 maj
DESCRIPTION:Välkommen till fågelmorgon vid Svartskatatornet när svanar\, gäss och änder samlas utanför fågeltornet! \nTornet ligger på vänstra sidan om vägen mellan Ersnäs och Mörön\, 3 km från E4-korsningen i Ersnäs. Skylt och spångad stig från P-plats vid vägen. Det kommer att vara bemannat mellan kl 07.00-10.00 med personal från Norrbottens Ornitologiska Förening\, som kan ge svar på vilka fåglar som vi ser. Ta med fika! Tubkikare finnas tillgängliga\, men ta gärna med egen kikare. \nKontaktperson: Tord Gustafsson\, tel 070 516 65 65.
URL:https://nof.nu/evenemang/fagelmorgon-vid-svartskatatornet-lulea-l-sondag-3-maj/
END:VEVENT
BEGIN:VEVENT
DTSTART;TZID=Europe/Stockholm:20260506T190000
DTEND;TZID=Europe/Stockholm:20260506T210000
DTSTAMP:20260425T143626
CREATED:20260208T104152Z
LAST-MODIFIED:20260208T104152Z
UID:6419-1778094000-1778101200@nof.nu
SUMMARY:Fågelvandringar i Ala- och Yli Lombolo\, Kiruna ll. Onsdagar i april/maj kl 19.00
DESCRIPTION:Vi fortsätter att möta våra migrerande fåglar runt både Yli Lombolo och Ala Lombolo. Vid vårens första skådningarna är de mäktigt att få se hundratalet kråkor. Många av våra vitfåglar rastar vid sjön\, även änder\, tex skedand\, men också stare\, tofsvipa och andra vadare.\nVattennivån i Yli Lombolo har inte märkbart förändrats än\, vi hoppas svarthakedoppingen kan fortsätta sin häckning där några år till.\nKontaktpersoner:\n22.4 Lars Jonsson tel 070 217 03 89\, email la.g.jo@outlook.com\n29.4 Barbro Hermansson tel 070 527 91 16\, email barbrohermansson8@gmail.com\n6.5 Roland Strålberg tel 070 581 45 21\, email roland.098014545@telia.com\n20.5 Marit Sikku Trägårdh tel 070 690 80 22\, email marit_tragardh@hotmail.com\n27.5 Stefan Andersson tel 073 077 69 60\, email sandersson913@gmail.com
URL:https://nof.nu/evenemang/fagelvandringar-i-ala-och-yli-lombolo-kiruna-ll-onsdagar-i-april-maj-kl-19-00/2026-05-06/
END:VEVENT
BEGIN:VEVENT
DTSTART;TZID=Europe/Stockholm:20260509T050000
DTEND;TZID=Europe/Stockholm:20260509T130000
DTSTAMP:20260425T143626
CREATED:20260208T105017Z
LAST-MODIFIED:20260208T105017Z
UID:6427-1778302800-1778331600@nof.nu
SUMMARY:Fågeltornskampen. Lördag 9 maj
DESCRIPTION:Mellan kl 05.00-13.00 pågår denna tävling med deltagare från alla nordiska länderna. Anmäl ett lag mellan 3-8 personer och besök ett lämpligt torn i din närhet. Detaljer om hur du anmäler dig och rapporterar resultatet finns på artrally.birdlife.se. För att få räkna en art krävs att minst två av deltagarna har sett eller hört arten.
URL:https://nof.nu/evenemang/fageltornskampen-lordag-9-maj/
END:VEVENT
BEGIN:VEVENT
DTSTART;TZID=Europe/Stockholm:20260516T090000
DTEND;TZID=Europe/Stockholm:20260516T110000
DTSTAMP:20260425T143626
CREATED:20260208T105224Z
LAST-MODIFIED:20260208T105224Z
UID:6429-1778922000-1778929200@nof.nu
SUMMARY:Storavan\, Boden ll. Lördag 16 maj
DESCRIPTION:Följ med på en promenad till fågeltornet vid Storavan – Bodens tätortsnära fågelsjö. Här häckar måsar och änder. Många vadare rastar denna tid på året. Med lite tur sveper bruna gladan förbi. \nMedtag fika och stövlar då det kan vara lerigt. \nTid och plats. Samling vid P-platsen vid fotbollsplanen Bossevallen\, Svarbjörsbyn kl. 09.00. \nKontaktperson: Mats Bergquist. \nepost: mjh.bergquist@gmail.com
URL:https://nof.nu/evenemang/storavan-boden-ll-lordag-16-maj/
END:VEVENT
BEGIN:VEVENT
DTSTART;TZID=Europe/Stockholm:20260518T180000
DTEND;TZID=Europe/Stockholm:20260518T210000
DTSTAMP:20260425T143626
CREATED:20260208T105428Z
LAST-MODIFIED:20260208T105428Z
UID:6431-1779127200-1779138000@nof.nu
SUMMARY:Jukkasjärvi Reningsverk l. Måndag 18 maj.
DESCRIPTION:Vid Torneälvsstranden i Jukkasjärvi kan man få se småspov\, myrspov\, större strandpipare\, smalnäbbad simsnäppa\, mosnäppa\, och kärrsnäppa. Även storlom\, sjöorre\, salskrake och alfågel rastar här. Stora mängder backsvalor och hussvalor födosöker i området.\nVi gör även en tur till Holmen för att se vilka rastande fåglar som finns där på ängarna. Dessa ängar bjuder både jorduggla och tornfalk på sork.\nTa med ett kvällsfika.\nTid och plats: Samling kl 18.00 vid Reningsverket i Jukkasjärvi. \nKontaktperson: Per-Erik Mukka tel 070 331 61 23\, email mukkapererik@gmail.com
URL:https://nof.nu/evenemang/jukkasjarvi-reningsverk-l-mandag-18-maj/
END:VEVENT
BEGIN:VEVENT
DTSTART;TZID=Europe/Stockholm:20260520T190000
DTEND;TZID=Europe/Stockholm:20260520T210000
DTSTAMP:20260425T143626
CREATED:20260208T104152Z
LAST-MODIFIED:20260208T104152Z
UID:6420-1779303600-1779310800@nof.nu
SUMMARY:Fågelvandringar i Ala- och Yli Lombolo\, Kiruna ll. Onsdagar i april/maj kl 19.00
DESCRIPTION:Vi fortsätter att möta våra migrerande fåglar runt både Yli Lombolo och Ala Lombolo. Vid vårens första skådningarna är de mäktigt att få se hundratalet kråkor. Många av våra vitfåglar rastar vid sjön\, även änder\, tex skedand\, men också stare\, tofsvipa och andra vadare.\nVattennivån i Yli Lombolo har inte märkbart förändrats än\, vi hoppas svarthakedoppingen kan fortsätta sin häckning där några år till.\nKontaktpersoner:\n22.4 Lars Jonsson tel 070 217 03 89\, email la.g.jo@outlook.com\n29.4 Barbro Hermansson tel 070 527 91 16\, email barbrohermansson8@gmail.com\n6.5 Roland Strålberg tel 070 581 45 21\, email roland.098014545@telia.com\n20.5 Marit Sikku Trägårdh tel 070 690 80 22\, email marit_tragardh@hotmail.com\n27.5 Stefan Andersson tel 073 077 69 60\, email sandersson913@gmail.com
URL:https://nof.nu/evenemang/fagelvandringar-i-ala-och-yli-lombolo-kiruna-ll-onsdagar-i-april-maj-kl-19-00/2026-05-20/
END:VEVENT
BEGIN:VEVENT
DTSTART;TZID=Europe/Stockholm:20260521T180000
DTEND;TZID=Europe/Stockholm:20260521T210000
DTSTAMP:20260425T143626
CREATED:20260208T105903Z
LAST-MODIFIED:20260208T113432Z
UID:6433-1779386400-1779397200@nof.nu
SUMMARY:Kaalasluspa\, Kiruna l. Torsdag 21 maj
DESCRIPTION:Vi börjar redan nu med att fira den Biologiska mångfaldens dag som egentligen infaller den 22 maj. Den här dagen instiftades av FN 1993 för att uppmärksamma vikten av variationer inom arter och ekosystem och öka förståelsen för varför vår artrika natur måste bevaras. Från vår lägerplats vid älvstranden fokuserar vi på att skåda fågelarter. Förhoppningsvis kommer vi att se svärta\, bergand\, hus- och backsvala\, smålom\, drillsnäppa\, tofsvipa\, vilka alla finns med i Artdatabankens rödlista. Området bjuder ofta på spelande brushanar.\nTa med matsäck. Möjlighet till grillning.    \nSamarrangemang med SNF i Kiruna.  \nTid och plats: Samling kl 18.00 Kaalasluspabron  \nKontaktperson: Sara Sand\, tel 070 346 16 33\, email sarasand@telia.com
URL:https://nof.nu/evenemang/kaalasluspa-kiruna-l-torsdag-21-maj/
END:VEVENT
BEGIN:VEVENT
DTSTART;TZID=Europe/Stockholm:20260523T080000
DTEND;TZID=Europe/Stockholm:20260523T100000
DTSTAMP:20260425T143626
CREATED:20260208T114234Z
LAST-MODIFIED:20260208T114250Z
UID:6439-1779523200-1779530400@nof.nu
SUMMARY:Stadsviken\, Haparanda l. Lördag 23 maj
DESCRIPTION:Välkommen att skåda vilka fåglar som har kommit till Stadsviken mellan Haparanda och Torneå. Eftersom lokalen ligger på gränsen är det gemensam utflykt med den finska grannföreningen Xenus (Meri-Lapin lintutieteellinen yhdistys). \nVanligtvis ses skäggdoppingar och andra vattenfåglar. Beroende på vattenståndet är det möjligt att se även vadarfåglar. \nVi kommer att vara på torrt underlag så inga gummistövlar behövs. Endast korta promenader! \nTid och plats: Kl. 8.00–10.00 vid Resecentrum. \nKontaktperson: Jouni Ylipekkala\, tel. 072 \n736 83 56.
URL:https://nof.nu/evenemang/stadsviken-haparanda-l-lordag-23-maj/
END:VEVENT
BEGIN:VEVENT
DTSTART;TZID=Europe/Stockholm:20260523T080000
DTEND;TZID=Europe/Stockholm:20260523T120000
DTSTAMP:20260425T143626
CREATED:20260208T113841Z
LAST-MODIFIED:20260208T113841Z
UID:6435-1779523200-1779537600@nof.nu
SUMMARY:Stordalen\, Kiruna ll. Lördag 23 maj
DESCRIPTION:Ett intressant område med permafrost och palsar som har ett mycket rikt fågelliv. Patrick är välbekant med området och guidar oss på myren under några timmar.\nFöljande fåglar har vi chans att få se\, vadare\, framför allt brushane. Änder och kanske de första långflyttande tättingarna i form av lövsångare och gulärla. Om vi har tur kan både jorduggla och kärrhök dyka upp.\nMedtag: Högskaftade\, vattentäta kängor/stövlar då spängerna nere på myrarna delvis kan vara översvämmade vid den här årstiden. Matsäck.\nAnmälan till Patrick senast torsdag 21.5\nTid: Avresa kl 08.00\, samåkning i möjligaste mån.\nVid ankomst samling vid Stordalens parkering. (P-plats 1\,2 km väster om Stordalens station\, den ligger i en svacka med en sjö på södra sidan).\nKontaktperson: Patrick Åström\, tel. 070 321 33 14\, email abisko21@hotmail.com
URL:https://nof.nu/evenemang/stordalen-kiruna-ll-lordag-23-maj/
END:VEVENT
BEGIN:VEVENT
DTSTART;TZID=Europe/Stockholm:20260523T080000
DTEND;TZID=Europe/Stockholm:20260523T120000
DTSTAMP:20260425T143626
CREATED:20260208T114100Z
LAST-MODIFIED:20260208T114100Z
UID:6437-1779523200-1779537600@nof.nu
SUMMARY:Skådning i härliga Gammelstadsviken l. Lördag 23 maj.
DESCRIPTION:Vårfågelmorgon vid Gammelstadsviken. Det går bra att ansluta vid fågeltornet som är bemannat fram till kl 12.00. NOF bjuder på korv vid grillplatsen nedanför fågeltornet. Kängor rekommenderas då det kan vara lite blött på sina ställen. Samarrangemang med Naturskyddsföreningen i Luleå. \nTid och plats: Guidad promenad till fågeltornet från parkeringen vid Haparandavägen (1\,7 km tillgänglighetsanpassad led) kl 08.00. \nKontaktperson: Tord Gustafsson\, tel. 070 516 65 65.
URL:https://nof.nu/evenemang/skadning-i-harliga-gammelstadsviken-l-lordag-23-maj/
END:VEVENT
BEGIN:VEVENT
DTSTART;TZID=Europe/Stockholm:20260525T180000
DTEND;TZID=Europe/Stockholm:20260525T210000
DTSTAMP:20260425T143626
CREATED:20260208T114655Z
LAST-MODIFIED:20260208T114905Z
UID:6441-1779732000-1779742800@nof.nu
SUMMARY:Alip Gáhttár – Lulip Gáhttár\, Kiruna II. Måndag 25 maj.
DESCRIPTION:Vi börjar kvällen med att skåda mot Vistaseatnu\, Leveävuopio och Paittasjärvi vilka brukar ge många trevliga observationer\, bl.a. alfågel\, bergand\, sjöorre\, blå kärrhök och fjällabb. Spelande brushanar alltid lika trevligt att få se.\nKvällsturen fortsätter mot Alip Gáhttár och Lulip Gáhttár med förhoppning att få se några rovfåglar.\nTa med kvällsfika. Möjlighet till grillning. \nTid och plats: Samling kl 18.00\, Värmeverket efter Nikkaluokta vägen\, strax efter rondellen. \nKontaktperson: Robert Flygare\, tel. 070 601 91 13\, email robertflygare@hotmail.com
URL:https://nof.nu/evenemang/alip-gahttar-lulip-gahttar-kiruna-ii-mandag-25-maj/
END:VEVENT
BEGIN:VEVENT
DTSTART;TZID=Europe/Stockholm:20260527T190000
DTEND;TZID=Europe/Stockholm:20260527T210000
DTSTAMP:20260425T143626
CREATED:20260208T104152Z
LAST-MODIFIED:20260208T104152Z
UID:6421-1779908400-1779915600@nof.nu
SUMMARY:Fågelvandringar i Ala- och Yli Lombolo\, Kiruna ll. Onsdagar i april/maj kl 19.00
DESCRIPTION:Vi fortsätter att möta våra migrerande fåglar runt både Yli Lombolo och Ala Lombolo. Vid vårens första skådningarna är de mäktigt att få se hundratalet kråkor. Många av våra vitfåglar rastar vid sjön\, även änder\, tex skedand\, men också stare\, tofsvipa och andra vadare.\nVattennivån i Yli Lombolo har inte märkbart förändrats än\, vi hoppas svarthakedoppingen kan fortsätta sin häckning där några år till.\nKontaktpersoner:\n22.4 Lars Jonsson tel 070 217 03 89\, email la.g.jo@outlook.com\n29.4 Barbro Hermansson tel 070 527 91 16\, email barbrohermansson8@gmail.com\n6.5 Roland Strålberg tel 070 581 45 21\, email roland.098014545@telia.com\n20.5 Marit Sikku Trägårdh tel 070 690 80 22\, email marit_tragardh@hotmail.com\n27.5 Stefan Andersson tel 073 077 69 60\, email sandersson913@gmail.com
URL:https://nof.nu/evenemang/fagelvandringar-i-ala-och-yli-lombolo-kiruna-ll-onsdagar-i-april-maj-kl-19-00/2026-05-27/
END:VEVENT
BEGIN:VEVENT
DTSTART;VALUE=DATE:20260530
DTEND;VALUE=DATE:20260531
DTSTAMP:20260425T143626
CREATED:20260208T115118Z
LAST-MODIFIED:20260208T115135Z
UID:6443-1780099200-1780185599@nof.nu
SUMMARY:Kuttainen\, Kiruna ll. Lördag 30 maj.
DESCRIPTION:Ytterligare en heldagsexkursion. Ove Larsson som förestår Fårföreningen i Kuttainen har även koll på alla de fåglar som finns i området runt omkring\, bland annat på Isosaari och Tervajärvi. I dessa lokaler har vi chans att få se backsvalor\, många vadare\, änder\, smalnäbbad simsnäppa (platsen sägs ha numerärt rekord på dessa simsnäppor). Väldigt ofta överraskar Kuttainen med någon trevlig raritet\, förra året fanns där bl.a. snatterand och skedand.\nTa med matsäck för hela dagen. Möjlighet till grillning.\nRekommenderad avfärd från Kiruna ca 07.00.\nSamling i Kuttainen vid affären kl 10.00.\nKontaktperson: Lotta Nygård\, mobil 073 091 92 52\, email masklotta@hotmail.com
URL:https://nof.nu/evenemang/kuttainen-kiruna-ll-lordag-30-maj/
END:VEVENT
BEGIN:VEVENT
DTSTART;VALUE=DATE:20260530
DTEND;VALUE=DATE:20260531
DTSTAMP:20260425T143626
CREATED:20260208T115331Z
LAST-MODIFIED:20260208T115331Z
UID:6445-1780099200-1780185599@nof.nu
SUMMARY:24-timmarsskådning\, Fågeldygnet ll. Lördag 30 maj.
DESCRIPTION:Dags för årets 24-timmarsskådning! Denna aktivitet körs i år för 21:e gången i Vuollerim samt i Glommersträsk. Kontakta din kontaktperson och anmäl dig för ett tvåtimmarspass! Aktiviteten genomförs från kl 00:00 lördag (fredag natt) till och med 00:00 söndag (lördag natt). \nPlats samt kontaktpersoner: \nVuollerim: Tornet\, Porsitjärnen. Mats Karström\, tel 076 126 78 34\, email \nmats.karstrom@naturskyddsforeningen.se\, \nGlommersträsk: Fågeltornet\, Västra träsket. Leif Björk\, tel 070 517 20 50\, email\nfambjork@arvidsjaurnet.se
URL:https://nof.nu/evenemang/24-timmarsskadning-fageldygnet-ll-lordag-30-maj/
END:VEVENT
END:VCALENDAR