BEGIN:VCALENDAR
VERSION:2.0
PRODID:-//Norrbottens Ornitologiska Förening - ECPv6.15.17.1//NONSGML v1.0//EN
CALSCALE:GREGORIAN
METHOD:PUBLISH
X-ORIGINAL-URL:https://nof.nu
X-WR-CALDESC:Händelser för Norrbottens Ornitologiska Förening
REFRESH-INTERVAL;VALUE=DURATION:PT1H
X-Robots-Tag:noindex
X-PUBLISHED-TTL:PT1H
BEGIN:VTIMEZONE
TZID:Europe/Stockholm
BEGIN:DAYLIGHT
TZOFFSETFROM:+0100
TZOFFSETTO:+0200
TZNAME:CEST
DTSTART:20210328T010000
END:DAYLIGHT
BEGIN:STANDARD
TZOFFSETFROM:+0200
TZOFFSETTO:+0100
TZNAME:CET
DTSTART:20211031T010000
END:STANDARD
BEGIN:DAYLIGHT
TZOFFSETFROM:+0100
TZOFFSETTO:+0200
TZNAME:CEST
DTSTART:20220327T010000
END:DAYLIGHT
BEGIN:STANDARD
TZOFFSETFROM:+0200
TZOFFSETTO:+0100
TZNAME:CET
DTSTART:20221030T010000
END:STANDARD
BEGIN:DAYLIGHT
TZOFFSETFROM:+0100
TZOFFSETTO:+0200
TZNAME:CEST
DTSTART:20230326T010000
END:DAYLIGHT
BEGIN:STANDARD
TZOFFSETFROM:+0200
TZOFFSETTO:+0100
TZNAME:CET
DTSTART:20231029T010000
END:STANDARD
END:VTIMEZONE
BEGIN:VEVENT
DTSTART;TZID=Europe/Stockholm:20221101T000000
DTEND;TZID=Europe/Stockholm:20221218T000000
DTSTAMP:20260425T155024
CREATED:20221022T102257Z
LAST-MODIFIED:20221022T104537Z
UID:4300-1667260800-1671321600@nof.nu
SUMMARY:Strandskatornas Julbord\, för datum kolla Strandskatorna.se eller Facebook
DESCRIPTION:Strandskatorna bjuder till sitt traditionella julbord vid matningen vid Gäddvikssundet\, Bergnäset i höjd med Kallaxrondellen. Datum är inte beslutat i dagsläget\, men håll utkik på strandskatorna.se eller på Facebook! Vi startar på matningen kl 11.00 och skådar och hänger upp ”julmat” och delar ut en julklapp till sist tillkomna medlem i nätverket\, om sådan finns i den anslutna flocken. Sedan drar vi till Kallax gårdsbutik och fikar och julshopar \nTid och plats: Samling kl 11.00. För datum kolla Strandskatorna.se eller Facebook. Matningen vid Gäddvikssundet\, Luleå. \nKontaktperson: Elsa Rensfeldt 070-640 75 05 eller rensfeldtelsa@gmail.com \n 
URL:https://nof.nu/evenemang/strandskatornas-julbord/
END:VEVENT
BEGIN:VEVENT
DTSTART;TZID=Europe/Stockholm:20221105T090000
DTEND;TZID=Europe/Stockholm:20221105T120000
DTSTAMP:20260425T155024
CREATED:20220810T101607Z
LAST-MODIFIED:20221031T202437Z
UID:4246-1667638800-1667649600@nof.nu
SUMMARY:Nytt datum blir lördag 5 november. Besök vid Campen\, Norra Svartbyn\, Boden lördag 29 oktober.
DESCRIPTION:Nytt tillfälle blir på lördag 5 november. \nBesöket är inställt pga regn. Kolla här för ev nytt datum \nVi besöker den finfina fågelmatningen Campen\, Norra Svartbyn i Boden. Medtag fika och varma kläder och skor. Vi gör upp eld och grillar och hoppas på fina fågelmöten\, såsom hackspettar\, nötkråkor\, mesar\, domherrar och grönfinkar. \nTid och plats: Samling kl 09.00 vid Torpgärdsskolan i Boden. \nKontaktperson: Jan Andersson 073-024 20 79.
URL:https://nof.nu/evenemang/besok-vid-campen-norra-svartbyn-boden-lordag-29-oktober/
LOCATION:Campen Norra Svartbyn Boden
END:VEVENT
BEGIN:VEVENT
DTSTART;TZID=Europe/Stockholm:20221123T113000
DTEND;TZID=Europe/Stockholm:20221123T160000
DTSTAMP:20260425T155024
CREATED:20221022T101721Z
LAST-MODIFIED:20221022T102035Z
UID:4293-1669203000-1669219200@nof.nu
SUMMARY:Fågelbordslunch\, Kiruna
DESCRIPTION:Vi gör ett besök vid Institutet för rymdfysik/Rymdcampus där Peter Dalin har några välbesökta fågelmatbord. Vi börjar med att äta lunch i restaurangen och skådar ut genom panoramafönstret. Därefter besöker vi också skogsmatningen. Vi kan skåda talltita\, lappmes\, lavskrika och domherrar som finns i området \nOBS! Anmälan senast måndag den 14 november (viktigt med anmälan med tanke på kökets planering). \nTid och plats: Samling kl 11.30 vid Institutionen för rymdfysik/Rymdcampus reception. \nKontaktperson och anmälan: Lotta Nygård 073-091 92 52 eller masklotta@hotmail.com \n  \n  \n 
URL:https://nof.nu/evenemang/fagelbordslund-kiruna/
END:VEVENT
END:VCALENDAR