BEGIN:VCALENDAR
VERSION:2.0
PRODID:-//Norrbottens Ornitologiska Förening - ECPv6.15.17.1//NONSGML v1.0//EN
CALSCALE:GREGORIAN
METHOD:PUBLISH
X-WR-CALNAME:Norrbottens Ornitologiska Förening
X-ORIGINAL-URL:https://nof.nu
X-WR-CALDESC:Händelser för Norrbottens Ornitologiska Förening
REFRESH-INTERVAL;VALUE=DURATION:PT1H
X-Robots-Tag:noindex
X-PUBLISHED-TTL:PT1H
BEGIN:VTIMEZONE
TZID:Europe/Stockholm
BEGIN:DAYLIGHT
TZOFFSETFROM:+0100
TZOFFSETTO:+0200
TZNAME:CEST
DTSTART:20210328T010000
END:DAYLIGHT
BEGIN:STANDARD
TZOFFSETFROM:+0200
TZOFFSETTO:+0100
TZNAME:CET
DTSTART:20211031T010000
END:STANDARD
BEGIN:DAYLIGHT
TZOFFSETFROM:+0100
TZOFFSETTO:+0200
TZNAME:CEST
DTSTART:20220327T010000
END:DAYLIGHT
BEGIN:STANDARD
TZOFFSETFROM:+0200
TZOFFSETTO:+0100
TZNAME:CET
DTSTART:20221030T010000
END:STANDARD
BEGIN:DAYLIGHT
TZOFFSETFROM:+0100
TZOFFSETTO:+0200
TZNAME:CEST
DTSTART:20230326T010000
END:DAYLIGHT
BEGIN:STANDARD
TZOFFSETFROM:+0200
TZOFFSETTO:+0100
TZNAME:CET
DTSTART:20231029T010000
END:STANDARD
END:VTIMEZONE
BEGIN:VEVENT
DTSTART;VALUE=DATE:20221001
DTEND;VALUE=DATE:20221003
DTSTAMP:20260425T170502
CREATED:20220810T100344Z
LAST-MODIFIED:20220810T100657Z
UID:4242-1664582400-1664755199@nof.nu
SUMMARY:EuroBirdwatch 1 - 2 oktober
DESCRIPTION:Detta är ett internationellt evenemang som hålls för att uppmärksamma fågelskådning och fåglar\, och då framförallt flyttfåglar som under hösten har en strapatsrik resa söderut genom Europa mot övervintringsplatserna. \nTid och plats: Kalix Lördag 1 oktober kl 09.00. Samling vid Kalix kyrka \nSe info på NOF:s hemsida för övriga orter. \nÄven på de orter där det inte organiseras några utflykter så är det bra om du åker ut i markerna denna helg och rapporterar i Artportalen senast kl 17.00 den 3 oktober\, vad du ser. Då hinner dina observationer med i den sammanställda rapporten.
URL:https://nof.nu/evenemang/eurobirdwatch-1-2-oktober/
END:VEVENT
BEGIN:VEVENT
DTSTART;TZID=Europe/Stockholm:20221026T000000
DTEND;TZID=Europe/Stockholm:20221026T000000
DTSTAMP:20260425T170502
CREATED:20221022T103322Z
LAST-MODIFIED:20221022T103904Z
UID:4310-1666742400-1666742400@nof.nu
SUMMARY:Studiecirkel hösten 2022 i Kiruna
DESCRIPTION:Ugglor start onsdag 26 oktober \nGenomgång av 10 häckande arter i Sverige. Vi studerar gemensamma karaktärer – tex val av biotop\, häckning\, läte\, sång\, föda\, flyttning\, jizz och flykt. \nCirkelledare: Barbro Hermansson\, barbrohermansson8@gmail.com och Lotta Nygård\, masklotta@hotmail.com \n 
URL:https://nof.nu/evenemang/studiecirkel-hosten-2022-i-kiruna/
END:VEVENT
END:VCALENDAR