BEGIN:VCALENDAR
VERSION:2.0
PRODID:-//Norrbottens Ornitologiska Förening - ECPv6.15.17.1//NONSGML v1.0//EN
CALSCALE:GREGORIAN
METHOD:PUBLISH
X-ORIGINAL-URL:https://nof.nu
X-WR-CALDESC:Händelser för Norrbottens Ornitologiska Förening
REFRESH-INTERVAL;VALUE=DURATION:PT1H
X-Robots-Tag:noindex
X-PUBLISHED-TTL:PT1H
BEGIN:VTIMEZONE
TZID:Europe/Stockholm
BEGIN:DAYLIGHT
TZOFFSETFROM:+0100
TZOFFSETTO:+0200
TZNAME:CEST
DTSTART:20210328T010000
END:DAYLIGHT
BEGIN:STANDARD
TZOFFSETFROM:+0200
TZOFFSETTO:+0100
TZNAME:CET
DTSTART:20211031T010000
END:STANDARD
BEGIN:DAYLIGHT
TZOFFSETFROM:+0100
TZOFFSETTO:+0200
TZNAME:CEST
DTSTART:20220327T010000
END:DAYLIGHT
BEGIN:STANDARD
TZOFFSETFROM:+0200
TZOFFSETTO:+0100
TZNAME:CET
DTSTART:20221030T010000
END:STANDARD
BEGIN:DAYLIGHT
TZOFFSETFROM:+0100
TZOFFSETTO:+0200
TZNAME:CEST
DTSTART:20230326T010000
END:DAYLIGHT
BEGIN:STANDARD
TZOFFSETFROM:+0200
TZOFFSETTO:+0100
TZNAME:CET
DTSTART:20231029T010000
END:STANDARD
END:VTIMEZONE
BEGIN:VEVENT
DTSTART;TZID=Europe/Stockholm:20220820T083000
DTEND;TZID=Europe/Stockholm:20220820T110000
DTSTAMP:20260425T195311
CREATED:20220816T103258Z
LAST-MODIFIED:20220816T103258Z
UID:4253-1660984200-1660993200@nof.nu
SUMMARY:Hur kan naturnära\, hyggesfritt skogsbruk bedrivas i Luleå Kommun?  Inbjudan till exkursion förmiddagen den 20 augusti
DESCRIPTION:Med anledning av att kommunstyrelsen och fullmäktige kommer att behandla en motion om att Luleå kommun ska övergå till hyggesfritt kontinuitetsskogsbruk\, i sin tur föranledd av ett medborgarförslag\, inbjuder vi till en exkursion under sakkunnig ledning. Martin Jentzen har en mångårig erfarenhet av att arbeta som konsult och föreläsare i naturnära\, hyggesfritt skogsbruk. \nVid exkursionen får du möjlighet att i olika skogstyper i Luleå kommun studera och diskutera med Martin förutsättningarna för att bedriva ett hyggesfritt skogsbruk. \nTid: 20 augusti 08.30-11.00 \nSamlingsplats: Parkeringen Södra Hamnplan \nAnmäl dej till Hans Olsson\, tel 070 – 310 69 31\, Mejla: hansols@me.com \nMer info om Martin Jentzen: https://www.jentzen.se/ \nExkursionen arrangeras av Luleå Naturskyddsförening. Skogsexkursion 20 aug
URL:https://nof.nu/evenemang/hur-kan-naturnara-hyggesfritt-skogsbruk-bedrivas-i-lulea-kommun-inbjudan-till-exkursion-formiddagen-den-20-augusti/
LOCATION:Luleå kommun
CATEGORIES:Exkursioner
END:VEVENT
END:VCALENDAR