BEGIN:VCALENDAR
VERSION:2.0
PRODID:-//Norrbottens Ornitologiska Förening - ECPv6.15.17.1//NONSGML v1.0//EN
CALSCALE:GREGORIAN
METHOD:PUBLISH
X-WR-CALNAME:Norrbottens Ornitologiska Förening
X-ORIGINAL-URL:https://nof.nu
X-WR-CALDESC:Händelser för Norrbottens Ornitologiska Förening
REFRESH-INTERVAL;VALUE=DURATION:PT1H
X-Robots-Tag:noindex
X-PUBLISHED-TTL:PT1H
BEGIN:VTIMEZONE
TZID:Europe/Stockholm
BEGIN:DAYLIGHT
TZOFFSETFROM:+0100
TZOFFSETTO:+0200
TZNAME:CEST
DTSTART:20210328T010000
END:DAYLIGHT
BEGIN:STANDARD
TZOFFSETFROM:+0200
TZOFFSETTO:+0100
TZNAME:CET
DTSTART:20211031T010000
END:STANDARD
BEGIN:DAYLIGHT
TZOFFSETFROM:+0100
TZOFFSETTO:+0200
TZNAME:CEST
DTSTART:20220327T010000
END:DAYLIGHT
BEGIN:STANDARD
TZOFFSETFROM:+0200
TZOFFSETTO:+0100
TZNAME:CET
DTSTART:20221030T010000
END:STANDARD
BEGIN:DAYLIGHT
TZOFFSETFROM:+0100
TZOFFSETTO:+0200
TZNAME:CEST
DTSTART:20230326T010000
END:DAYLIGHT
BEGIN:STANDARD
TZOFFSETFROM:+0200
TZOFFSETTO:+0100
TZNAME:CET
DTSTART:20231029T010000
END:STANDARD
END:VTIMEZONE
BEGIN:VEVENT
DTSTART;TZID=Europe/Stockholm:20220601T180000
DTEND;TZID=Europe/Stockholm:20220601T210000
DTSTAMP:20260425T225746
CREATED:20220329T171437Z
LAST-MODIFIED:20220329T171523Z
UID:4115-1654106400-1654117200@nof.nu
SUMMARY:Onsdag 1 juni - Jukkasjärvi reningsverk
DESCRIPTION:Vid vårens avslutningsexkursion vid Reningsverket i Jukkasjärvi skall vi förhoppningsvis få se många av de vadare vi studerat under studiecirkeln under våren. Här vid Torne älven kan man få se småspov\, myrspov\, större strandpipare\, smalnäbbad simsnäppa\, mosnäppa\, kärrsnäppa och tom sandlöpare. Även storlom\, sjöorre och alfågel rastar här. Stora mängder backsvalor brukar födosöka i området. Ta med kvällsfika. \nSamling kl 18.00 vid Reningsverket i Jukkasjärvi. \nKontaktperson: Linda Bäckström 070-268 94 88 mail: lindamaria@hotmail.se
URL:https://nof.nu/evenemang/onsdag-1-juni-jukkasjarvi-reningsverk/
END:VEVENT
BEGIN:VEVENT
DTSTART;TZID=Europe/Stockholm:20220604T000000
DTEND;TZID=Europe/Stockholm:20220605T000000
DTSTAMP:20260425T225746
CREATED:20220329T172044Z
LAST-MODIFIED:20220329T172138Z
UID:4118-1654300800-1654387200@nof.nu
SUMMARY:Lördag 4 juni - 24-timmarsskådning\, Fågeldygnet
DESCRIPTION:Dags för årets 24-timmarsskådning! Denna aktivitet körs i år för 19’e gången i Vuollerim\, 15’e gången i Glommersträsk samt 7’e gången i Luleå i samarbete med Strandskatorna. Kontakta din kontaktperson och anmäl dig för ett tvåtimmarspass! Aktiviteten genomförs från kl 00:00 lördag (fredag natt) till och med 00:00 söndag (lördag natt). \nPlats samt kontaktpersoner: \n\nVuollerim: Tornet\, Porsitjärnen. Mats Karström\, 076-126 78 34\, mail: karstrom@naturskyddsforeningen.se festmiddag vid eldplatsen.\nGlommersträsk: Fågeltornet\, Västra träsket\, Leif Björk\, 070-517 20 50\, mail: fambjork@arvidsjaurnet.se\nLuleå: Tornet\, Gammelstadsviken. Inger Brännström\, 070-383 11 99\, mail: brannstrom@bredband.net
URL:https://nof.nu/evenemang/lordag-4-juni-24-timmarsskadning-fageldygnet/
END:VEVENT
BEGIN:VEVENT
DTSTART;TZID=Europe/Stockholm:20220609T180000
DTEND;TZID=Europe/Stockholm:20220612T160000
DTSTAMP:20260425T225746
CREATED:20220329T172419Z
LAST-MODIFIED:20220329T172419Z
UID:4120-1654797600-1655049600@nof.nu
SUMMARY:Torsdag - söndag 9 - 12 juni - Häckfågelinventering på Haparanda Sandskär
DESCRIPTION:Under detta förlängda veckoslut gör vi den årliga inventeringen av öns häckfåglar. Vi kommer som vanligt att både inventera fåglar\, skåda och umgås. Både erfarna skådare och nybörjare är välkomna. Inkvartering i stuga. Preliminär utresa från Staffansviken på torsdag kl 18.00 och hemresa söndag eftermiddag. Med hänsyn till väder och vind avgör vår skeppare när säker båtfärd kan ske. \nAnmälan sker via mail eller telefon (skicka gärna ett SMS) till kontaktpersonen så får du ett anmälningsnummer i retur. För att delta i denna exkursion krävs medlemskap i NOF\, erlagd medlemsavgift skall finnas registrerad senast 30 april. \nKostnad 700 kr/person (inkluderar transport och logi). Ta chansen till en prisvärd Sandskärsexkursion. OBS. Begränsat antal platser \nKontaktperson: Lena Stenman\, 070-667 00 18\, mail: lena.stenman@hotmail.com.
URL:https://nof.nu/evenemang/torsdag-sondag-9-12-juni-hackfagelinventering-pa-haparanda-sandskar/
END:VEVENT
END:VCALENDAR