BEGIN:VCALENDAR
VERSION:2.0
PRODID:-//Norrbottens Ornitologiska Förening - ECPv6.15.17.1//NONSGML v1.0//EN
CALSCALE:GREGORIAN
METHOD:PUBLISH
X-WR-CALNAME:Norrbottens Ornitologiska Förening
X-ORIGINAL-URL:https://nof.nu
X-WR-CALDESC:Händelser för Norrbottens Ornitologiska Förening
REFRESH-INTERVAL;VALUE=DURATION:PT1H
X-Robots-Tag:noindex
X-PUBLISHED-TTL:PT1H
BEGIN:VTIMEZONE
TZID:Europe/Stockholm
BEGIN:DAYLIGHT
TZOFFSETFROM:+0100
TZOFFSETTO:+0200
TZNAME:CEST
DTSTART:20210328T010000
END:DAYLIGHT
BEGIN:STANDARD
TZOFFSETFROM:+0200
TZOFFSETTO:+0100
TZNAME:CET
DTSTART:20211031T010000
END:STANDARD
BEGIN:DAYLIGHT
TZOFFSETFROM:+0100
TZOFFSETTO:+0200
TZNAME:CEST
DTSTART:20220327T010000
END:DAYLIGHT
BEGIN:STANDARD
TZOFFSETFROM:+0200
TZOFFSETTO:+0100
TZNAME:CET
DTSTART:20221030T010000
END:STANDARD
BEGIN:DAYLIGHT
TZOFFSETFROM:+0100
TZOFFSETTO:+0200
TZNAME:CEST
DTSTART:20230326T010000
END:DAYLIGHT
BEGIN:STANDARD
TZOFFSETFROM:+0200
TZOFFSETTO:+0100
TZNAME:CET
DTSTART:20231029T010000
END:STANDARD
END:VTIMEZONE
BEGIN:VEVENT
DTSTART;TZID=Europe/Stockholm:20220501T080000
DTEND;TZID=Europe/Stockholm:20220501T110000
DTSTAMP:20260426T003252
CREATED:20220329T151158Z
LAST-MODIFIED:20220410T191437Z
UID:4075-1651392000-1651402800@nof.nu
SUMMARY:Söndag 1 maj - Bland svanar\, tranor och gäss
DESCRIPTION:Välkommen till en fågelförmiddag i de myllrande fågelmarkerna vid Alviksgården! Mellan kl 08.00-11.00 kommer Norrbottens Ornitologiska Förening att ha personal i 90-graderskurvan på vägen mellan Älvsbyvägen och Alviksgården. Kom när du önskar och prata fågel och få hjälp med att artbestämma vad som finns i fågelmarkerna. \nKontaktperson: Inger Brännström\, 070-383 11 99
URL:https://nof.nu/evenemang/bland-svanar-tranor-och-gass-sondag-1-maj/
END:VEVENT
BEGIN:VEVENT
DTSTART;TZID=Europe/Stockholm:20220503T180000
DTEND;TZID=Europe/Stockholm:20220503T200000
DTSTAMP:20260426T003252
CREATED:20220307T181915Z
LAST-MODIFIED:20220329T165259Z
UID:4006-1651600800-1651608000@nof.nu
SUMMARY:Tisdag 3 maj - Fågelutflykter runt Vuollerim
DESCRIPTION:Fågelutflykter runt Vuollerim tisdagar i april och maj\, veckorna 15 – 20 \nÄntligen är det dags att följa vårfåglarnas ankomst runt Vuollerim. Kikare och fågelböcker lånas ut. \nSamling kl 18.00 vid Folkets hus i Vuollerim för samåkning. \nKontaktperson: Mats Karström 076-126 78 34
URL:https://nof.nu/evenemang/fagelutflykter-runt-vuollerim-4/
LOCATION:Folkets hus Vuollerim\, Älvvägen 4\, Vuollerim
END:VEVENT
BEGIN:VEVENT
DTSTART;TZID=Europe/Stockholm:20220504T190000
DTEND;TZID=Europe/Stockholm:20220504T210000
DTSTAMP:20260426T003252
CREATED:20220329T145611Z
LAST-MODIFIED:20220329T164522Z
UID:4063-1651690800-1651698000@nof.nu
SUMMARY:Onsdag 4 maj kl 19.00 - Fågelvandring i Kiruna
DESCRIPTION:Vi möter vårfåglarna runt Ala- och Yli Lompolosjöarna. Yli Lompolo står inför en stor omvandling i och med stadsflytten. Den nya vattennivån i sjön kommer att påverka fågelbeståndet\, några häckande arter flyttar förhoppningsvis till Ala Lompolo men vilka nya arter hittar till området? \nKontaktpersoner: \n4 maj Lars Jonsson 0980-80804\, 070-217 03 89 mail: lars.jonsson@outlook.com
URL:https://nof.nu/evenemang/fagelvandringar-i-kiruna-4-maj-kl-19-00/
END:VEVENT
BEGIN:VEVENT
DTSTART;TZID=Europe/Stockholm:20220507T093000
DTEND;TZID=Europe/Stockholm:20220507T150000
DTSTAMP:20260426T003252
CREATED:20220329T151604Z
LAST-MODIFIED:20220329T164435Z
UID:4079-1651915800-1651935600@nof.nu
SUMMARY:Lördag 7 maj - Fågelskådningens dag - Kaalasluspa
DESCRIPTION:Vi gör läger vid älvstranden för att under några timmar skåda över området. Under den här exkursionen har vi chans att få se gluttsnäppa\, grönbena\, spelande brushane\, ringtrast\, skärpiplärka\, salskrake och storlom.Ta med matsäck\, det finns möjlighet att grilla. Samarrangemang med SNF i Kiruna. \nSamling kl 09.30 Kaalasluspabron. \nKontaktperson: Sara Sand 070-346 16 33 \nMail: sarasand@telia.com
URL:https://nof.nu/evenemang/fagelskadningens-dag-kaalasluspa-lordag-7-maj/
END:VEVENT
BEGIN:VEVENT
DTSTART;TZID=Europe/Stockholm:20220508T070000
DTEND;TZID=Europe/Stockholm:20220508T100000
DTSTAMP:20260426T003252
CREATED:20220329T152615Z
LAST-MODIFIED:20220329T152615Z
UID:4084-1651993200-1652004000@nof.nu
SUMMARY:Söndag 8 maj - Vårfågelskådning från Svartskatatornet
DESCRIPTION:Välkommen till fågelmorgon vid Svartskatatornet när svanar\, gäss och änder samlas utanför fågeltornet! Tornet ligger på Ö sidan om vägen mellan Ersnäs och Mörön 3 km från E4-korsningen i Ersnäs. Skylt och spångad stig från P-plats vid vägen. P.g.a Covid 19 sker ingen samåkning utan var och en tar sig på egen hand till tornet. Det kommer att vara bemannat mellan kl 07.00-10.00 med personal från Norrbottens Ornitologiska förening\, de kan ge svar på vilka fåglar som vi ser. Ta gärna med fika! Tubkikare kommer att finnas tillgängliga men ta gärna med egen kikare. \nKontaktperson: Tord Gustafsson\, 070-516 65 65
URL:https://nof.nu/evenemang/sondag-8-maj-varfagelskadning-fran-svartskatatornet/
END:VEVENT
BEGIN:VEVENT
DTSTART;TZID=Europe/Stockholm:20220510T180000
DTEND;TZID=Europe/Stockholm:20220510T200000
DTSTAMP:20260426T003252
CREATED:20220307T182055Z
LAST-MODIFIED:20220329T165212Z
UID:4009-1652205600-1652212800@nof.nu
SUMMARY:Tisdag 10 maj - Fågelutflykter runt Vuollerim
DESCRIPTION:Fågelutflykter runt Vuollerim tisdagar i april och maj\, veckorna 15 – 20 \nÄntligen är det dags att följa vårfåglarnas ankomst runt Vuollerim. Kikare och fågelböcker lånas ut. \nSamling kl 18.00 vid Folkets hus i Vuollerim för samåkning. \nKontaktperson: Mats Karström 076-126 78 34
URL:https://nof.nu/evenemang/fagelutflykter-runt-vuollerim-5/
LOCATION:Folkets hus Vuollerim\, Älvvägen 4\, Vuollerim
END:VEVENT
BEGIN:VEVENT
DTSTART;TZID=Europe/Stockholm:20220511T190000
DTEND;TZID=Europe/Stockholm:20220511T210000
DTSTAMP:20260426T003252
CREATED:20220329T150006Z
LAST-MODIFIED:20220329T164350Z
UID:4067-1652295600-1652302800@nof.nu
SUMMARY:Onsdag 11 maj kl 19.00 - Fågelvandring i Kiruna
DESCRIPTION:Vi möter vårfåglarna runt Ala- och Yli Lompolosjöarna. Yli Lompolo står inför en stor omvandling i och med stadsflytten. Den nya vattennivån i sjön kommer att påverka fågelbeståndet\, några häckande arter flyttar förhoppningsvis till Ala Lompolo men vilka nya arter hittar till området? \nKontaktpersoner: 11 maj Marit Sikku Trägårdh 070-690 80 22 \nmail: marit_tragardh@hotmail.com
URL:https://nof.nu/evenemang/fagelvandring-i-kiruna-11-maj-kl-1900/
END:VEVENT
BEGIN:VEVENT
DTSTART;TZID=Europe/Stockholm:20220512T180000
DTEND;TZID=Europe/Stockholm:20220512T200000
DTSTAMP:20260426T003252
CREATED:20220329T153154Z
LAST-MODIFIED:20220329T153350Z
UID:4087-1652378400-1652385600@nof.nu
SUMMARY:Torsdag 12 maj - Cykelskådning vid Storavan i Boden
DESCRIPTION:Favorit i repris! Samling med cyklar på tågstationen kl 18.00. Det går även bra att komma med bil. Ta med kikare (om du har)\, fika och kläder efter väder. \nKontaktperson: Lars Sundberg 070-593 10 42 mail: larsosundberg@gmail.com \nArrangeras av Naturskyddsföreningen i Boden.
URL:https://nof.nu/evenemang/torsdag-12-maj-cykelskadning-vid-storavan-i-boden/
END:VEVENT
BEGIN:VEVENT
DTSTART;TZID=Europe/Stockholm:20220516T180000
DTEND;TZID=Europe/Stockholm:20220516T200000
DTSTAMP:20260426T003252
CREATED:20220329T165705Z
LAST-MODIFIED:20220329T165705Z
UID:4104-1652724000-1652731200@nof.nu
SUMMARY:Måndag 16 maj - Kauppisenvuoma
DESCRIPTION:Myrmarksområdet Kauppisenvuoma är en bra rastlokal för många fåglar bla för tofsvipa\, ljungpipare\, brushane och sädgås. Även grågås och spetsbergsgås kan man få se där. Området bjuder ofta på födosökande rovfåglar. Ta med fika. \nSamling kl 18.00 vid Kauppisenvuoma. \nKontaktperson: Agneta Haapasaari\, 073-032 84 85\, mail: agnetahaapasaari@gmail.com.
URL:https://nof.nu/evenemang/mandag-16-maj-kauppisenvuoma/
END:VEVENT
BEGIN:VEVENT
DTSTART;TZID=Europe/Stockholm:20220517T180000
DTEND;TZID=Europe/Stockholm:20220517T200000
DTSTAMP:20260426T003252
CREATED:20220307T182153Z
LAST-MODIFIED:20220329T165132Z
UID:4011-1652810400-1652817600@nof.nu
SUMMARY:Tisdag 17 maj - Fågelutflykter runt Vuollerim
DESCRIPTION:Fågelutflykter runt Vuollerim tisdagar i april och maj\, veckorna 15 – 20 \nÄntligen är det dags att följa vårfåglarnas ankomst runt Vuollerim. Kikare och fågelböcker lånas ut. \nSamling kl 18.00 vid Folkets hus i Vuollerim för samåkning. \nKontaktperson: Mats Karström 076-126 78 34
URL:https://nof.nu/evenemang/fagelutflykter-runt-vuollerim-6/
LOCATION:Folkets hus Vuollerim\, Älvvägen 4\, Vuollerim
END:VEVENT
BEGIN:VEVENT
DTSTART;TZID=Europe/Stockholm:20220517T183000
DTEND;TZID=Europe/Stockholm:20220517T200000
DTSTAMP:20260426T003252
CREATED:20220329T165911Z
LAST-MODIFIED:20220329T165911Z
UID:4106-1652812200-1652817600@nof.nu
SUMMARY:Tisdag 17 maj - Kvällsexkursion vid Mjölkuddstjärn i Luleå
DESCRIPTION:Följ med på en fågelvandring runt den lilla fågelsjön Mjölkuddstjärn. Här kan vi på nära håll studera skrattmåsens familjeliv\, sothönsens bataljer och skäggdoppingarnas parningsdans. Den 1\,3 km långa vandringen runt sjön tar drygt en timme om vi går i lugnt tempo längs den tillgänglighetsanpassade stigen. Om du har så ta med en tubkikare. \nStart vid gömslet bakom Scandic hotell kl 18.30. Kontaktperson: Tord Gustafsson\, 070 516 65 65
URL:https://nof.nu/evenemang/tisdag-17-maj-kvallsexkursion-vid-mjolkuddstjarn-i-lulea/
END:VEVENT
BEGIN:VEVENT
DTSTART;TZID=Europe/Stockholm:20220518T190000
DTEND;TZID=Europe/Stockholm:20220518T210000
DTSTAMP:20260426T003252
CREATED:20220329T150811Z
LAST-MODIFIED:20220329T153040Z
UID:4071-1652900400-1652907600@nof.nu
SUMMARY:Onsdag 18 maj kl 19.00 - Fågelvandring i Kiruna
DESCRIPTION:Vi möter vårfåglarna runt Ala- och Yli Lompolosjöarna. Yli Lompolo står inför en stor omvandling i och med stadsflytten. Den nya vattennivån i sjön kommer att påverka fågelbeståndet\, några häckande arter flyttar förhoppningsvis till Ala Lompolo men vilka nya arter hittar till området? \nKontaktpersoner: 18 maj Robert Flygare 070-601 91 13\, \nmail: robertflygare@hotmail.com
URL:https://nof.nu/evenemang/fagelvandring-i-kiruna-onsdag-18-maj-kl-19-00/
END:VEVENT
BEGIN:VEVENT
DTSTART;TZID=Europe/Stockholm:20220522T080000
DTEND;TZID=Europe/Stockholm:20220522T120000
DTSTAMP:20260426T003252
CREATED:20220329T170036Z
LAST-MODIFIED:20220329T170825Z
UID:4108-1653206400-1653220800@nof.nu
SUMMARY:Söndag 22 maj - Skådning i härliga Gammelstadsviken
DESCRIPTION:Vårfågelmorgon vid Gammelstadsviken. Guidad promenad till fågeltornet från parkeringen vid Haparandavägen (1.7 km tillgänglighetsanpassad led) kl 08.00 eller från P-platsen vid Notvikens station (ca 2\,5 km\, delvis spångad led) kl 08.00. \nDet går också bra att ansluta vid fågeltornet som är bemannat fram till kl 12.00. NOF bjuder på korv vid grillplatsen nedanför fågeltornet. Kängor eller stövlar rekommenderas vid promenaden från Notviken då det kan vara lite blött på sina ställen. \nSamarrangemang med Naturskyddsföreningen. \nKontaktperson: Jan-Olov Johansson 070-655 33 15.
URL:https://nof.nu/evenemang/sondag-22-maj-skadning-i-harliga-gammelstadsviken/
END:VEVENT
BEGIN:VEVENT
DTSTART;TZID=Europe/Stockholm:20220530T180000
DTEND;TZID=Europe/Stockholm:20220530T210000
DTSTAMP:20260426T003252
CREATED:20220329T170933Z
LAST-MODIFIED:20220329T171342Z
UID:4111-1653933600-1653944400@nof.nu
SUMMARY:Måndag 30 maj - LKAB dammarna
DESCRIPTION:Efter två års uppehåll pga pandemin har vi återigen fått möjlighet att besöka LKAB:s dammsystem som är en rastlokal för många flyttfåglar. Här rastar bland annat änder och vadare innan de ger sig i väg mot sina häckningslokaler. Tidigare har vi här sett bla fjällabb\, småsnäppa\, kärr-snäppa\, stjärtand och större strandpipare. Ytterligare arter som vi kan få se är alfågel\, brunand och skedand. Ornitolog Aron Andersson kommer att vara med oss under kvällen. \nSamling kl 18.00 framför LKAB:s kontor\, Kiruna\, därifrån avgår buss. \nKontaktperson: Roland Strålberg 070-581 45 21  mail: roland.098014515@telia.com  OBS det är fel mailadress till Roland i FIN 1/22
URL:https://nof.nu/evenemang/mandag-30-maj-lkab-dammarna/
END:VEVENT
END:VCALENDAR