BEGIN:VCALENDAR
VERSION:2.0
PRODID:-//Norrbottens Ornitologiska Förening - ECPv6.15.17.1//NONSGML v1.0//EN
CALSCALE:GREGORIAN
METHOD:PUBLISH
X-WR-CALNAME:Norrbottens Ornitologiska Förening
X-ORIGINAL-URL:https://nof.nu
X-WR-CALDESC:Händelser för Norrbottens Ornitologiska Förening
REFRESH-INTERVAL;VALUE=DURATION:PT1H
X-Robots-Tag:noindex
X-PUBLISHED-TTL:PT1H
BEGIN:VTIMEZONE
TZID:Europe/Stockholm
BEGIN:DAYLIGHT
TZOFFSETFROM:+0100
TZOFFSETTO:+0200
TZNAME:CEST
DTSTART:20250330T010000
END:DAYLIGHT
BEGIN:STANDARD
TZOFFSETFROM:+0200
TZOFFSETTO:+0100
TZNAME:CET
DTSTART:20251026T010000
END:STANDARD
BEGIN:DAYLIGHT
TZOFFSETFROM:+0100
TZOFFSETTO:+0200
TZNAME:CEST
DTSTART:20260329T010000
END:DAYLIGHT
BEGIN:STANDARD
TZOFFSETFROM:+0200
TZOFFSETTO:+0100
TZNAME:CET
DTSTART:20261025T010000
END:STANDARD
BEGIN:DAYLIGHT
TZOFFSETFROM:+0100
TZOFFSETTO:+0200
TZNAME:CEST
DTSTART:20270328T010000
END:DAYLIGHT
BEGIN:STANDARD
TZOFFSETFROM:+0200
TZOFFSETTO:+0100
TZNAME:CET
DTSTART:20271031T010000
END:STANDARD
END:VTIMEZONE
BEGIN:VEVENT
DTSTART;VALUE=DATE:20260530
DTEND;VALUE=DATE:20260531
DTSTAMP:20260425T154041
CREATED:20260208T115118Z
LAST-MODIFIED:20260208T115135Z
UID:6443-1780099200-1780185599@nof.nu
SUMMARY:Kuttainen\, Kiruna ll. Lördag 30 maj.
DESCRIPTION:Ytterligare en heldagsexkursion. Ove Larsson som förestår Fårföreningen i Kuttainen har även koll på alla de fåglar som finns i området runt omkring\, bland annat på Isosaari och Tervajärvi. I dessa lokaler har vi chans att få se backsvalor\, många vadare\, änder\, smalnäbbad simsnäppa (platsen sägs ha numerärt rekord på dessa simsnäppor). Väldigt ofta överraskar Kuttainen med någon trevlig raritet\, förra året fanns där bl.a. snatterand och skedand.\nTa med matsäck för hela dagen. Möjlighet till grillning.\nRekommenderad avfärd från Kiruna ca 07.00.\nSamling i Kuttainen vid affären kl 10.00.\nKontaktperson: Lotta Nygård\, mobil 073 091 92 52\, email masklotta@hotmail.com
URL:https://nof.nu/evenemang/kuttainen-kiruna-ll-lordag-30-maj/
END:VEVENT
BEGIN:VEVENT
DTSTART;VALUE=DATE:20260530
DTEND;VALUE=DATE:20260531
DTSTAMP:20260425T154041
CREATED:20260208T115331Z
LAST-MODIFIED:20260208T115331Z
UID:6445-1780099200-1780185599@nof.nu
SUMMARY:24-timmarsskådning\, Fågeldygnet ll. Lördag 30 maj.
DESCRIPTION:Dags för årets 24-timmarsskådning! Denna aktivitet körs i år för 21:e gången i Vuollerim samt i Glommersträsk. Kontakta din kontaktperson och anmäl dig för ett tvåtimmarspass! Aktiviteten genomförs från kl 00:00 lördag (fredag natt) till och med 00:00 söndag (lördag natt). \nPlats samt kontaktpersoner: \nVuollerim: Tornet\, Porsitjärnen. Mats Karström\, tel 076 126 78 34\, email \nmats.karstrom@naturskyddsforeningen.se\, \nGlommersträsk: Fågeltornet\, Västra träsket. Leif Björk\, tel 070 517 20 50\, email\nfambjork@arvidsjaurnet.se
URL:https://nof.nu/evenemang/24-timmarsskadning-fageldygnet-ll-lordag-30-maj/
END:VEVENT
END:VCALENDAR