BEGIN:VCALENDAR
VERSION:2.0
PRODID:-//Norrbottens Ornitologiska Förening - ECPv6.15.17.1//NONSGML v1.0//EN
CALSCALE:GREGORIAN
METHOD:PUBLISH
X-WR-CALNAME:Norrbottens Ornitologiska Förening
X-ORIGINAL-URL:https://nof.nu
X-WR-CALDESC:Händelser för Norrbottens Ornitologiska Förening
REFRESH-INTERVAL;VALUE=DURATION:PT1H
X-Robots-Tag:noindex
X-PUBLISHED-TTL:PT1H
BEGIN:VTIMEZONE
TZID:Europe/Stockholm
BEGIN:DAYLIGHT
TZOFFSETFROM:+0100
TZOFFSETTO:+0200
TZNAME:CEST
DTSTART:20220327T010000
END:DAYLIGHT
BEGIN:STANDARD
TZOFFSETFROM:+0200
TZOFFSETTO:+0100
TZNAME:CET
DTSTART:20221030T010000
END:STANDARD
BEGIN:DAYLIGHT
TZOFFSETFROM:+0100
TZOFFSETTO:+0200
TZNAME:CEST
DTSTART:20230326T010000
END:DAYLIGHT
BEGIN:STANDARD
TZOFFSETFROM:+0200
TZOFFSETTO:+0100
TZNAME:CET
DTSTART:20231029T010000
END:STANDARD
BEGIN:DAYLIGHT
TZOFFSETFROM:+0100
TZOFFSETTO:+0200
TZNAME:CEST
DTSTART:20240331T010000
END:DAYLIGHT
BEGIN:STANDARD
TZOFFSETFROM:+0200
TZOFFSETTO:+0100
TZNAME:CET
DTSTART:20241027T010000
END:STANDARD
END:VTIMEZONE
BEGIN:VEVENT
DTSTART;TZID=Europe/Stockholm:20230401T000000
DTEND;TZID=Europe/Stockholm:20230430T000000
DTSTAMP:20260421T143518
CREATED:20230219T153159Z
LAST-MODIFIED:20230219T153602Z
UID:4599-1680307200-1682812800@nof.nu
SUMMARY:Strandskatornas Vårfågeldag Alvik april\, datum ej bestämt.
DESCRIPTION:Kom och hälsa vårfåglarna välkomna tillbaka tillsammans med Strandskatorna! Här delas också Strandskatornas stipendium ”Sandskärven” ut. Vi träffas vid Klackens kurva\, på vägen mot Alviksgården kl 11-13. För datum håll koll på Strandskatornas hemsida www.strandskatorna.se. \nKontaktperson: Elsa Rensfeldt\, 070-640 75 05\, mail: rensfeldtelsa@gmail.com
URL:https://nof.nu/evenemang/strandskatornas-varfageldag-alvik-april-datum-ej-bestamt/
END:VEVENT
END:VCALENDAR