BEGIN:VCALENDAR
VERSION:2.0
PRODID:-//Norrbottens Ornitologiska Förening - ECPv6.15.17.1//NONSGML v1.0//EN
CALSCALE:GREGORIAN
METHOD:PUBLISH
X-WR-CALNAME:Norrbottens Ornitologiska Förening
X-ORIGINAL-URL:https://nof.nu
X-WR-CALDESC:Händelser för Norrbottens Ornitologiska Förening
REFRESH-INTERVAL;VALUE=DURATION:PT1H
X-Robots-Tag:noindex
X-PUBLISHED-TTL:PT1H
BEGIN:VTIMEZONE
TZID:Europe/Stockholm
BEGIN:DAYLIGHT
TZOFFSETFROM:+0100
TZOFFSETTO:+0200
TZNAME:CEST
DTSTART:20210328T010000
END:DAYLIGHT
BEGIN:STANDARD
TZOFFSETFROM:+0200
TZOFFSETTO:+0100
TZNAME:CET
DTSTART:20211031T010000
END:STANDARD
BEGIN:DAYLIGHT
TZOFFSETFROM:+0100
TZOFFSETTO:+0200
TZNAME:CEST
DTSTART:20220327T010000
END:DAYLIGHT
BEGIN:STANDARD
TZOFFSETFROM:+0200
TZOFFSETTO:+0100
TZNAME:CET
DTSTART:20221030T010000
END:STANDARD
BEGIN:DAYLIGHT
TZOFFSETFROM:+0100
TZOFFSETTO:+0200
TZNAME:CEST
DTSTART:20230326T010000
END:DAYLIGHT
BEGIN:STANDARD
TZOFFSETFROM:+0200
TZOFFSETTO:+0100
TZNAME:CET
DTSTART:20231029T010000
END:STANDARD
END:VTIMEZONE
BEGIN:VEVENT
DTSTART;TZID=Europe/Stockholm:20220530T180000
DTEND;TZID=Europe/Stockholm:20220530T210000
DTSTAMP:20260426T003205
CREATED:20220329T170933Z
LAST-MODIFIED:20220329T171342Z
UID:4111-1653933600-1653944400@nof.nu
SUMMARY:Måndag 30 maj - LKAB dammarna
DESCRIPTION:Efter två års uppehåll pga pandemin har vi återigen fått möjlighet att besöka LKAB:s dammsystem som är en rastlokal för många flyttfåglar. Här rastar bland annat änder och vadare innan de ger sig i väg mot sina häckningslokaler. Tidigare har vi här sett bla fjällabb\, småsnäppa\, kärr-snäppa\, stjärtand och större strandpipare. Ytterligare arter som vi kan få se är alfågel\, brunand och skedand. Ornitolog Aron Andersson kommer att vara med oss under kvällen. \nSamling kl 18.00 framför LKAB:s kontor\, Kiruna\, därifrån avgår buss. \nKontaktperson: Roland Strålberg 070-581 45 21  mail: roland.098014515@telia.com  OBS det är fel mailadress till Roland i FIN 1/22
URL:https://nof.nu/evenemang/mandag-30-maj-lkab-dammarna/
END:VEVENT
END:VCALENDAR