BEGIN:VCALENDAR
VERSION:2.0
PRODID:-//Norrbottens Ornitologiska Förening - ECPv6.15.17.1//NONSGML v1.0//EN
CALSCALE:GREGORIAN
METHOD:PUBLISH
X-ORIGINAL-URL:https://nof.nu
X-WR-CALDESC:Händelser för Norrbottens Ornitologiska Förening
REFRESH-INTERVAL;VALUE=DURATION:PT1H
X-Robots-Tag:noindex
X-PUBLISHED-TTL:PT1H
BEGIN:VTIMEZONE
TZID:Europe/Stockholm
BEGIN:DAYLIGHT
TZOFFSETFROM:+0100
TZOFFSETTO:+0200
TZNAME:CEST
DTSTART:20210328T010000
END:DAYLIGHT
BEGIN:STANDARD
TZOFFSETFROM:+0200
TZOFFSETTO:+0100
TZNAME:CET
DTSTART:20211031T010000
END:STANDARD
BEGIN:DAYLIGHT
TZOFFSETFROM:+0100
TZOFFSETTO:+0200
TZNAME:CEST
DTSTART:20220327T010000
END:DAYLIGHT
BEGIN:STANDARD
TZOFFSETFROM:+0200
TZOFFSETTO:+0100
TZNAME:CET
DTSTART:20221030T010000
END:STANDARD
BEGIN:DAYLIGHT
TZOFFSETFROM:+0100
TZOFFSETTO:+0200
TZNAME:CEST
DTSTART:20230326T010000
END:DAYLIGHT
BEGIN:STANDARD
TZOFFSETFROM:+0200
TZOFFSETTO:+0100
TZNAME:CET
DTSTART:20231029T010000
END:STANDARD
END:VTIMEZONE
BEGIN:VEVENT
DTSTART;TZID=Europe/Stockholm:20220517T180000
DTEND;TZID=Europe/Stockholm:20220517T200000
DTSTAMP:20260426T015526
CREATED:20220307T182153Z
LAST-MODIFIED:20220329T165132Z
UID:4011-1652810400-1652817600@nof.nu
SUMMARY:Tisdag 17 maj - Fågelutflykter runt Vuollerim
DESCRIPTION:Fågelutflykter runt Vuollerim tisdagar i april och maj\, veckorna 15 – 20 \nÄntligen är det dags att följa vårfåglarnas ankomst runt Vuollerim. Kikare och fågelböcker lånas ut. \nSamling kl 18.00 vid Folkets hus i Vuollerim för samåkning. \nKontaktperson: Mats Karström 076-126 78 34
URL:https://nof.nu/evenemang/fagelutflykter-runt-vuollerim-6/
LOCATION:Folkets hus Vuollerim\, Älvvägen 4\, Vuollerim
END:VEVENT
BEGIN:VEVENT
DTSTART;TZID=Europe/Stockholm:20220517T183000
DTEND;TZID=Europe/Stockholm:20220517T200000
DTSTAMP:20260426T015526
CREATED:20220329T165911Z
LAST-MODIFIED:20220329T165911Z
UID:4106-1652812200-1652817600@nof.nu
SUMMARY:Tisdag 17 maj - Kvällsexkursion vid Mjölkuddstjärn i Luleå
DESCRIPTION:Följ med på en fågelvandring runt den lilla fågelsjön Mjölkuddstjärn. Här kan vi på nära håll studera skrattmåsens familjeliv\, sothönsens bataljer och skäggdoppingarnas parningsdans. Den 1\,3 km långa vandringen runt sjön tar drygt en timme om vi går i lugnt tempo längs den tillgänglighetsanpassade stigen. Om du har så ta med en tubkikare. \nStart vid gömslet bakom Scandic hotell kl 18.30. Kontaktperson: Tord Gustafsson\, 070 516 65 65
URL:https://nof.nu/evenemang/tisdag-17-maj-kvallsexkursion-vid-mjolkuddstjarn-i-lulea/
END:VEVENT
END:VCALENDAR