BEGIN:VCALENDAR
VERSION:2.0
PRODID:-//Norrbottens Ornitologiska Förening - ECPv6.15.17.1//NONSGML v1.0//EN
CALSCALE:GREGORIAN
METHOD:PUBLISH
X-ORIGINAL-URL:https://nof.nu
X-WR-CALDESC:Händelser för Norrbottens Ornitologiska Förening
REFRESH-INTERVAL;VALUE=DURATION:PT1H
X-Robots-Tag:noindex
X-PUBLISHED-TTL:PT1H
BEGIN:VTIMEZONE
TZID:Europe/Stockholm
BEGIN:DAYLIGHT
TZOFFSETFROM:+0100
TZOFFSETTO:+0200
TZNAME:CEST
DTSTART:20210328T010000
END:DAYLIGHT
BEGIN:STANDARD
TZOFFSETFROM:+0200
TZOFFSETTO:+0100
TZNAME:CET
DTSTART:20211031T010000
END:STANDARD
BEGIN:DAYLIGHT
TZOFFSETFROM:+0100
TZOFFSETTO:+0200
TZNAME:CEST
DTSTART:20220327T010000
END:DAYLIGHT
BEGIN:STANDARD
TZOFFSETFROM:+0200
TZOFFSETTO:+0100
TZNAME:CET
DTSTART:20221030T010000
END:STANDARD
BEGIN:DAYLIGHT
TZOFFSETFROM:+0100
TZOFFSETTO:+0200
TZNAME:CEST
DTSTART:20230326T010000
END:DAYLIGHT
BEGIN:STANDARD
TZOFFSETFROM:+0200
TZOFFSETTO:+0100
TZNAME:CET
DTSTART:20231029T010000
END:STANDARD
END:VTIMEZONE
BEGIN:VEVENT
DTSTART;TZID=Europe/Stockholm:20220412T180000
DTEND;TZID=Europe/Stockholm:20220412T200000
DTSTAMP:20260426T032651
CREATED:20220307T164303Z
LAST-MODIFIED:20220329T165519Z
UID:3994-1649786400-1649793600@nof.nu
SUMMARY:Tisdag 12 april - Fågelutflykter runt Vuollerim
DESCRIPTION:Fågelutflykter runt Vuollerim tisdagar i april och maj\, veckorna 15 – 20 \nÄntligen är det dags att följa vårfåglarnas ankomst runt Vuollerim. Kikare och fågelböcker lånas ut. \nSamling kl 18.00 vid Folkets hus i Vuollerim för samåkning. \nKontaktperson: Mats Karström 076-126 78 34
URL:https://nof.nu/evenemang/fagelutflykter-runt-vuollerim/
LOCATION:Folkets hus Vuollerim\, Älvvägen 4\, Vuollerim
ATTACH;FMTTYPE=image/jpeg:https://cdn.birdlife.se/wp-content/uploads/sites/50/2022/02/Lappmes-2022-02-14-scaled.jpg
END:VEVENT
END:VCALENDAR