BEGIN:VCALENDAR
VERSION:2.0
PRODID:-//Norrbottens Ornitologiska Förening - ECPv6.15.17.1//NONSGML v1.0//EN
CALSCALE:GREGORIAN
METHOD:PUBLISH
X-ORIGINAL-URL:https://nof.nu
X-WR-CALDESC:Händelser för Norrbottens Ornitologiska Förening
REFRESH-INTERVAL;VALUE=DURATION:PT1H
X-Robots-Tag:noindex
X-PUBLISHED-TTL:PT1H
BEGIN:VTIMEZONE
TZID:Europe/Stockholm
BEGIN:DAYLIGHT
TZOFFSETFROM:+0100
TZOFFSETTO:+0200
TZNAME:CEST
DTSTART:20210328T010000
END:DAYLIGHT
BEGIN:STANDARD
TZOFFSETFROM:+0200
TZOFFSETTO:+0100
TZNAME:CET
DTSTART:20211031T010000
END:STANDARD
BEGIN:DAYLIGHT
TZOFFSETFROM:+0100
TZOFFSETTO:+0200
TZNAME:CEST
DTSTART:20220327T010000
END:DAYLIGHT
BEGIN:STANDARD
TZOFFSETFROM:+0200
TZOFFSETTO:+0100
TZNAME:CET
DTSTART:20221030T010000
END:STANDARD
BEGIN:DAYLIGHT
TZOFFSETFROM:+0100
TZOFFSETTO:+0200
TZNAME:CEST
DTSTART:20230326T010000
END:DAYLIGHT
BEGIN:STANDARD
TZOFFSETFROM:+0200
TZOFFSETTO:+0100
TZNAME:CET
DTSTART:20231029T010000
END:STANDARD
END:VTIMEZONE
BEGIN:VEVENT
DTSTART;VALUE=DATE:20220201
DTEND;VALUE=DATE:20220328
DTSTAMP:20260426T055804
CREATED:20210924T103131Z
LAST-MODIFIED:20220329T173151Z
UID:3737-1643673600-1648425599@nof.nu
SUMMARY:Fågelmatningar\, Bodens södra skjutfält OBS Inställt
DESCRIPTION:INSTÄLLT PGA  MILITÄRA ÖVNINGAR \nVi besöker fågelmatningslokaler i Bodens södra skjutfält. \nDatum\, tid och plats meddelas senare på NOF:s hemsida och på facebookgruppen Norrbottens fåglar. \nKontaktperson: Jan Andersson 073-024 20 79 \nOBS tidsangivelsen ovan stämmer inte
URL:https://nof.nu/evenemang/fagelmatningar-bodens-sodra-skjutfalt-2/
END:VEVENT
BEGIN:VEVENT
DTSTART;TZID=Europe/Stockholm:20220219T080000
DTEND;TZID=Europe/Stockholm:20220219T150000
DTSTAMP:20260426T055804
CREATED:20210924T104618Z
LAST-MODIFIED:20210924T104916Z
UID:3743-1645257600-1645282800@nof.nu
SUMMARY:Vinterfågelracet
DESCRIPTION:Tallbit. Foto: Krister Jakobsson \nDet blir åter dags att i vänskaplig anda tävla om hur många arter man i lag kan lyckas se under en vinterdag. Reglerna i korthet: \n\nsätt ihop ett lag av ivriga raceare och hitta på ett bra lagnamn\nbestäm om laget skall delta i miljöklassen – dvs utan motorfordon till hjälp\, eller i öppna klassen\nmät sträckan som färdats. Vid lika antal arter i öppna klassen vinner laget med kortaste sträckan\nräkna så många sedda/hörda arter laget kan få ihop under dagen inom länets gränser mellan kl 08.00 och 15.00\nlaget skall utgöra en samlad grupp\, dvs det är inte OK att dela upp laget för att besöka fler platser. Det räcker dock att en person i laget hört eller sett en art för att arten ska räknas med\nartbestämda observationer räknas (tex inga obestämda korsnäbbar)\nklamrade arter räknas inte\n\nRapportera samma dag för kl 24.00 lagnamn\, deltagare\, sträcka samt sedda arter till: Tord Gustafsson\, gustafssontord@gmail.com \nGå ihop med likasinnade och bilda lag.
URL:https://nof.nu/evenemang/vinterfagelracet/
END:VEVENT
END:VCALENDAR