BEGIN:VCALENDAR
VERSION:2.0
PRODID:-//Norrbottens Ornitologiska Förening - ECPv6.15.17.1//NONSGML v1.0//EN
CALSCALE:GREGORIAN
METHOD:PUBLISH
X-WR-CALNAME:Norrbottens Ornitologiska Förening
X-ORIGINAL-URL:https://nof.nu
X-WR-CALDESC:Händelser för Norrbottens Ornitologiska Förening
REFRESH-INTERVAL;VALUE=DURATION:PT1H
X-Robots-Tag:noindex
X-PUBLISHED-TTL:PT1H
BEGIN:VTIMEZONE
TZID:Europe/Stockholm
BEGIN:DAYLIGHT
TZOFFSETFROM:+0100
TZOFFSETTO:+0200
TZNAME:CEST
DTSTART:20250330T010000
END:DAYLIGHT
BEGIN:STANDARD
TZOFFSETFROM:+0200
TZOFFSETTO:+0100
TZNAME:CET
DTSTART:20251026T010000
END:STANDARD
BEGIN:DAYLIGHT
TZOFFSETFROM:+0100
TZOFFSETTO:+0200
TZNAME:CEST
DTSTART:20260329T010000
END:DAYLIGHT
BEGIN:STANDARD
TZOFFSETFROM:+0200
TZOFFSETTO:+0100
TZNAME:CET
DTSTART:20261025T010000
END:STANDARD
BEGIN:DAYLIGHT
TZOFFSETFROM:+0100
TZOFFSETTO:+0200
TZNAME:CEST
DTSTART:20270328T010000
END:DAYLIGHT
BEGIN:STANDARD
TZOFFSETFROM:+0200
TZOFFSETTO:+0100
TZNAME:CET
DTSTART:20271031T010000
END:STANDARD
END:VTIMEZONE
BEGIN:VEVENT
DTSTART;TZID=Europe/Stockholm:20260523T080000
DTEND;TZID=Europe/Stockholm:20260523T120000
DTSTAMP:20260425T143658
CREATED:20260208T113841Z
LAST-MODIFIED:20260208T113841Z
UID:6435-1779523200-1779537600@nof.nu
SUMMARY:Stordalen\, Kiruna ll. Lördag 23 maj
DESCRIPTION:Ett intressant område med permafrost och palsar som har ett mycket rikt fågelliv. Patrick är välbekant med området och guidar oss på myren under några timmar.\nFöljande fåglar har vi chans att få se\, vadare\, framför allt brushane. Änder och kanske de första långflyttande tättingarna i form av lövsångare och gulärla. Om vi har tur kan både jorduggla och kärrhök dyka upp.\nMedtag: Högskaftade\, vattentäta kängor/stövlar då spängerna nere på myrarna delvis kan vara översvämmade vid den här årstiden. Matsäck.\nAnmälan till Patrick senast torsdag 21.5\nTid: Avresa kl 08.00\, samåkning i möjligaste mån.\nVid ankomst samling vid Stordalens parkering. (P-plats 1\,2 km väster om Stordalens station\, den ligger i en svacka med en sjö på södra sidan).\nKontaktperson: Patrick Åström\, tel. 070 321 33 14\, email abisko21@hotmail.com
URL:https://nof.nu/evenemang/stordalen-kiruna-ll-lordag-23-maj/
END:VEVENT
END:VCALENDAR