BEGIN:VCALENDAR
VERSION:2.0
PRODID:-//Norrbottens Ornitologiska Förening - ECPv6.15.17.1//NONSGML v1.0//EN
CALSCALE:GREGORIAN
METHOD:PUBLISH
X-WR-CALNAME:Norrbottens Ornitologiska Förening
X-ORIGINAL-URL:https://nof.nu
X-WR-CALDESC:Händelser för Norrbottens Ornitologiska Förening
REFRESH-INTERVAL;VALUE=DURATION:PT1H
X-Robots-Tag:noindex
X-PUBLISHED-TTL:PT1H
BEGIN:VTIMEZONE
TZID:Europe/Stockholm
BEGIN:DAYLIGHT
TZOFFSETFROM:+0100
TZOFFSETTO:+0200
TZNAME:CEST
DTSTART:20250330T010000
END:DAYLIGHT
BEGIN:STANDARD
TZOFFSETFROM:+0200
TZOFFSETTO:+0100
TZNAME:CET
DTSTART:20251026T010000
END:STANDARD
BEGIN:DAYLIGHT
TZOFFSETFROM:+0100
TZOFFSETTO:+0200
TZNAME:CEST
DTSTART:20260329T010000
END:DAYLIGHT
BEGIN:STANDARD
TZOFFSETFROM:+0200
TZOFFSETTO:+0100
TZNAME:CET
DTSTART:20261025T010000
END:STANDARD
BEGIN:DAYLIGHT
TZOFFSETFROM:+0100
TZOFFSETTO:+0200
TZNAME:CEST
DTSTART:20270328T010000
END:DAYLIGHT
BEGIN:STANDARD
TZOFFSETFROM:+0200
TZOFFSETTO:+0100
TZNAME:CET
DTSTART:20271031T010000
END:STANDARD
END:VTIMEZONE
BEGIN:VEVENT
DTSTART;TZID=Europe/Stockholm:20260411T090000
DTEND;TZID=Europe/Stockholm:20260411T140000
DTSTAMP:20260425T143807
CREATED:20260208T102902Z
LAST-MODIFIED:20260208T102902Z
UID:6411-1775898000-1775916000@nof.nu
SUMMARY:Kaalasluspa\, Kiruna ll\, Lördag 11 april.
DESCRIPTION:En av Kirunas bästa fågellokaler under vårvintern är Kaalasluspa\, en bra övervintringslokal för strömstaren då Kalix älv just här är öppen hela vinter igenom. Hit hittar de första flyttfåglarna tidigt\, t.ex. olika änder\, snösparv\, skärpiplärka. Kanske även någon tidig varfågel\, tofsvipa eller storspov. Vi skidar nedströms efter älven\, ca 2 km\, och rastar vid fågelmatningen\, som Ture flitigt fyller på hela vintern. Vid rastplatsen vill vi gärna få sällskap av talltita\, lappmes\, lavskrika och kungsfågel.\nTa med matsäck. Möjlighet till grillning.\nTid och plats: Samling vid Kaalasluspabron kl 09.00\nKontaktperson: Eva-Britt Lindberg tel 070 581 45 20 email eva-britt.lindberg@hotmail.com
URL:https://nof.nu/evenemang/kaalasluspa-kiruna-ll-lordag-11-april/
END:VEVENT
END:VCALENDAR