BEGIN:VCALENDAR
VERSION:2.0
PRODID:-//Norrbottens Ornitologiska Förening - ECPv6.15.17.1//NONSGML v1.0//EN
CALSCALE:GREGORIAN
METHOD:PUBLISH
X-WR-CALNAME:Norrbottens Ornitologiska Förening
X-ORIGINAL-URL:https://nof.nu
X-WR-CALDESC:Händelser för Norrbottens Ornitologiska Förening
REFRESH-INTERVAL;VALUE=DURATION:PT1H
X-Robots-Tag:noindex
X-PUBLISHED-TTL:PT1H
BEGIN:VTIMEZONE
TZID:Europe/Stockholm
BEGIN:DAYLIGHT
TZOFFSETFROM:+0100
TZOFFSETTO:+0200
TZNAME:CEST
DTSTART:20250330T010000
END:DAYLIGHT
BEGIN:STANDARD
TZOFFSETFROM:+0200
TZOFFSETTO:+0100
TZNAME:CET
DTSTART:20251026T010000
END:STANDARD
BEGIN:DAYLIGHT
TZOFFSETFROM:+0100
TZOFFSETTO:+0200
TZNAME:CEST
DTSTART:20260329T010000
END:DAYLIGHT
BEGIN:STANDARD
TZOFFSETFROM:+0200
TZOFFSETTO:+0100
TZNAME:CET
DTSTART:20261025T010000
END:STANDARD
BEGIN:DAYLIGHT
TZOFFSETFROM:+0100
TZOFFSETTO:+0200
TZNAME:CEST
DTSTART:20270328T010000
END:DAYLIGHT
BEGIN:STANDARD
TZOFFSETFROM:+0200
TZOFFSETTO:+0100
TZNAME:CET
DTSTART:20271031T010000
END:STANDARD
END:VTIMEZONE
BEGIN:VEVENT
DTSTART;VALUE=DATE:20260418
DTEND;VALUE=DATE:20260419
DTSTAMP:20260425T154502
CREATED:20260208T103134Z
LAST-MODIFIED:20260208T103134Z
UID:6413-1776470400-1776556799@nof.nu
SUMMARY:Håkvik\, Norge ll. Lördag 18 april.
DESCRIPTION:En heldagsexkursion till vårt grannland. Vi startar resan kl 07.00 och hoppas vara framme vid Håkvikleiran då ebben är som lägst. Vi besöker även udden som ligger bara 500 m bort och Narviks hamn. På hemfärden ger vi oss tid för lite spaning under nya Rombakksbron.\nArter som vi kan få se är bl.a. grisslor\, ejder\, skärsnäppa och förhoppningsvis även vitnäbbad islom.\nVi försöker avsätta lite tid för shopping\, färska räkor är alltid trevligt att få med sig hem.\nSamåkning så långt det är möjligt.\nMedtag kängor/stövlar som man kan vandra omkring i på Håkvikleiran.samt matsäck för hela dagen.\nAnmälan till Patrick senast torsdag 16.4.\nTid: Avresa kl 07.00. Vid ankomst samling vid Reningsverket Håkvik\, ungefär kl 09.\nKontaktperson: Patrick Åström\, tel 070-321 33 14 email: abisko21@hotmail.com
URL:https://nof.nu/evenemang/hakvik-norge-ll-lordag-18-april/
END:VEVENT
END:VCALENDAR